BEGIN:VCALENDAR
VERSION:2.0
PRODID:-//Lake Concert Band - ECPv6.15.20//NONSGML v1.0//EN
CALSCALE:GREGORIAN
METHOD:PUBLISH
X-WR-CALNAME:Lake Concert Band
X-ORIGINAL-URL:https://lakeconcertband.com
X-WR-CALDESC:Events for Lake Concert Band
REFRESH-INTERVAL;VALUE=DURATION:PT1H
X-Robots-Tag:noindex
X-PUBLISHED-TTL:PT1H
BEGIN:VTIMEZONE
TZID:America/New_York
BEGIN:DAYLIGHT
TZOFFSETFROM:-0500
TZOFFSETTO:-0400
TZNAME:EDT
DTSTART:20250309T070000
END:DAYLIGHT
BEGIN:STANDARD
TZOFFSETFROM:-0400
TZOFFSETTO:-0500
TZNAME:EST
DTSTART:20251102T060000
END:STANDARD
BEGIN:DAYLIGHT
TZOFFSETFROM:-0500
TZOFFSETTO:-0400
TZNAME:EDT
DTSTART:20260308T070000
END:DAYLIGHT
BEGIN:STANDARD
TZOFFSETFROM:-0400
TZOFFSETTO:-0500
TZNAME:EST
DTSTART:20261101T060000
END:STANDARD
BEGIN:DAYLIGHT
TZOFFSETFROM:-0500
TZOFFSETTO:-0400
TZNAME:EDT
DTSTART:20270314T070000
END:DAYLIGHT
BEGIN:STANDARD
TZOFFSETFROM:-0400
TZOFFSETTO:-0500
TZNAME:EST
DTSTART:20271107T060000
END:STANDARD
END:VTIMEZONE
BEGIN:VEVENT
DTSTART;TZID=America/New_York:20260419T150000
DTEND;TZID=America/New_York:20260419T163000
DTSTAMP:20260419T110649
CREATED:20250409T025701Z
LAST-MODIFIED:20260205T153824Z
UID:937-1776610800-1776616200@lakeconcertband.com
SUMMARY:The Plantation at Leesburg
DESCRIPTION:Closed to the public; for community residents only.
URL:https://lakeconcertband.com/event/the-plantation-at-leesburg/
LOCATION:The Plantation at Leesburg\, 25201 US Hwy 27\, Leesburg\, 34748\, United States
CATEGORIES:Concert,Private
ATTACH;FMTTYPE=image/jpeg:https://lakeconcertband.com/wp-content/uploads/The-Plantation-at-Leesburg.jpg
END:VEVENT
END:VCALENDAR